BEGIN:VCALENDAR
VERSION:2.0
PRODID:-//Guilford Township &amp; Hummel Park - ECPv6.15.20//NONSGML v1.0//EN
CALSCALE:GREGORIAN
METHOD:PUBLISH
X-ORIGINAL-URL:https://guilfordtownship.com
X-WR-CALDESC:Events for Guilford Township &amp; Hummel Park
REFRESH-INTERVAL;VALUE=DURATION:PT1H
X-Robots-Tag:noindex
X-PUBLISHED-TTL:PT1H
BEGIN:VTIMEZONE
TZID:America/Indiana/Indianapolis
BEGIN:DAYLIGHT
TZOFFSETFROM:-0500
TZOFFSETTO:-0400
TZNAME:EDT
DTSTART:20240310T070000
END:DAYLIGHT
BEGIN:STANDARD
TZOFFSETFROM:-0400
TZOFFSETTO:-0500
TZNAME:EST
DTSTART:20241103T060000
END:STANDARD
BEGIN:DAYLIGHT
TZOFFSETFROM:-0500
TZOFFSETTO:-0400
TZNAME:EDT
DTSTART:20250309T070000
END:DAYLIGHT
BEGIN:STANDARD
TZOFFSETFROM:-0400
TZOFFSETTO:-0500
TZNAME:EST
DTSTART:20251102T060000
END:STANDARD
BEGIN:DAYLIGHT
TZOFFSETFROM:-0500
TZOFFSETTO:-0400
TZNAME:EDT
DTSTART:20260308T070000
END:DAYLIGHT
BEGIN:STANDARD
TZOFFSETFROM:-0400
TZOFFSETTO:-0500
TZNAME:EST
DTSTART:20261101T060000
END:STANDARD
END:VTIMEZONE
BEGIN:VEVENT
DTSTART;TZID=America/Indiana/Indianapolis:20251213T120000
DTEND;TZID=America/Indiana/Indianapolis:20251213T160000
DTSTAMP:20260425T121955
CREATED:20251117T191957Z
LAST-MODIFIED:20251117T191957Z
UID:10000276-1765627200-1765641600@guilfordtownship.com
SUMMARY:Hummel Park Hometown Holiday
DESCRIPTION:HUMMEL PARK – Join us from Noon to 4:00 p.m. December 13\, 2025 as we celebrate the Annual Hometown Holiday at Hummel Park. This admission-free event is an indoor-outdoor event designed for fun for the entire family. \nFree fun holiday activities both indoors and outdoors to enjoy.  A free hot chocolate\, cookie\, and a photo with Santa too  — Hometown Holiday is the place to be. \nThis year’s event will feature trackless train rides around the park\, horse-drawn carriage rides\, pony rides outside\, cookies and hot chocolate\, photos with Santa\, crafts and more inside. And don’t forget\, there is a drawing also for children to receive a toy. \n2025 HH Flyer
URL:https://guilfordtownship.com/event-old/hummel-park-hometown-holiday/
LOCATION:Guilford Township Community Center\, 1500 S. Center St\, Plainfield\, IN\, 46168\, United States
CATEGORIES:Hummel Park Events
END:VEVENT
END:VCALENDAR