BEGIN:VCALENDAR
VERSION:2.0
PRODID:-//Guilford Township &amp; Hummel Park - ECPv6.15.20//NONSGML v1.0//EN
CALSCALE:GREGORIAN
METHOD:PUBLISH
X-ORIGINAL-URL:https://guilfordtownship.com
X-WR-CALDESC:Events for Guilford Township &amp; Hummel Park
REFRESH-INTERVAL;VALUE=DURATION:PT1H
X-Robots-Tag:noindex
X-PUBLISHED-TTL:PT1H
BEGIN:VTIMEZONE
TZID:America/Indiana/Indianapolis
BEGIN:DAYLIGHT
TZOFFSETFROM:-0500
TZOFFSETTO:-0400
TZNAME:EDT
DTSTART:20230312T070000
END:DAYLIGHT
BEGIN:STANDARD
TZOFFSETFROM:-0400
TZOFFSETTO:-0500
TZNAME:EST
DTSTART:20231105T060000
END:STANDARD
BEGIN:DAYLIGHT
TZOFFSETFROM:-0500
TZOFFSETTO:-0400
TZNAME:EDT
DTSTART:20240310T070000
END:DAYLIGHT
BEGIN:STANDARD
TZOFFSETFROM:-0400
TZOFFSETTO:-0500
TZNAME:EST
DTSTART:20241103T060000
END:STANDARD
BEGIN:DAYLIGHT
TZOFFSETFROM:-0500
TZOFFSETTO:-0400
TZNAME:EDT
DTSTART:20250309T070000
END:DAYLIGHT
BEGIN:STANDARD
TZOFFSETFROM:-0400
TZOFFSETTO:-0500
TZNAME:EST
DTSTART:20251102T060000
END:STANDARD
END:VTIMEZONE
BEGIN:VEVENT
DTSTART;TZID=America/Indiana/Indianapolis:20240727T190000
DTEND;TZID=America/Indiana/Indianapolis:20240727T210000
DTSTAMP:20260424T070949
CREATED:20240509T184520Z
LAST-MODIFIED:20240718T200059Z
UID:10000225-1722106800-1722114000@guilfordtownship.com
SUMMARY:Free Summer Concert - Big Caddy Daddy
DESCRIPTION:Big Caddy Daddy will perform at the Performing Arts Center at Hummel Park.  This Free concert begins at 7:00 p.m.  All seating is lawn seating.  Lawn chairs and coolers are welcome; however\, no smoking or outside alcohol allowed.  Brew Link Brewing and other food vendors will be onsite for the concert.
URL:https://guilfordtownship.com/event-old/free-summer-concert-big-caddy-daddy/
LOCATION:Hummel Park Performing Arts Center\, 5373 S. County Road 700 East\, Plainfield\, IN\, 46168
CATEGORIES:2024 Summer Concert Series,Hummel Park Events
END:VEVENT
END:VCALENDAR