BEGIN:VCALENDAR
VERSION:2.0
PRODID:-//Guilford Township &amp; Hummel Park - ECPv6.15.20//NONSGML v1.0//EN
CALSCALE:GREGORIAN
METHOD:PUBLISH
X-WR-CALNAME:Guilford Township &amp; Hummel Park
X-ORIGINAL-URL:https://guilfordtownship.com
X-WR-CALDESC:Events for Guilford Township &amp; Hummel Park
REFRESH-INTERVAL;VALUE=DURATION:PT1H
X-Robots-Tag:noindex
X-PUBLISHED-TTL:PT1H
BEGIN:VTIMEZONE
TZID:America/Indiana/Indianapolis
BEGIN:DAYLIGHT
TZOFFSETFROM:-0500
TZOFFSETTO:-0400
TZNAME:EDT
DTSTART:20240310T070000
END:DAYLIGHT
BEGIN:STANDARD
TZOFFSETFROM:-0400
TZOFFSETTO:-0500
TZNAME:EST
DTSTART:20241103T060000
END:STANDARD
BEGIN:DAYLIGHT
TZOFFSETFROM:-0500
TZOFFSETTO:-0400
TZNAME:EDT
DTSTART:20250309T070000
END:DAYLIGHT
BEGIN:STANDARD
TZOFFSETFROM:-0400
TZOFFSETTO:-0500
TZNAME:EST
DTSTART:20251102T060000
END:STANDARD
BEGIN:DAYLIGHT
TZOFFSETFROM:-0500
TZOFFSETTO:-0400
TZNAME:EDT
DTSTART:20260308T070000
END:DAYLIGHT
BEGIN:STANDARD
TZOFFSETFROM:-0400
TZOFFSETTO:-0500
TZNAME:EST
DTSTART:20261101T060000
END:STANDARD
END:VTIMEZONE
BEGIN:VEVENT
DTSTART;TZID=America/Indiana/Indianapolis:20250903T190000
DTEND;TZID=America/Indiana/Indianapolis:20250903T200000
DTSTAMP:20260420T121732
CREATED:20241211T153244Z
LAST-MODIFIED:20250820T160035Z
UID:10000251-1756926000-1756929600@guilfordtownship.com
SUMMARY:Board Meeting
DESCRIPTION:Board meeting  — Guilford Township Board Meeting \nPublic Hearings for 2026 budget and Capital Improvement Plan \nGuilford Township Community Center \n1500 S. Center Street \nPlainfield\, IN  46168 \nPublic Hearing Notice Capital Improvement Plan MX-2651_20250819_163807 \ntaxpayer public hearing notice Budget 2026 \nboard meeting agenda September 3\, 2025 \nFor accommodations or more information\, please call (317)838-0564
URL:https://guilfordtownship.com/event-old/board-meeting-39/
LOCATION:Guilford Township Community Center\, 1500 S. Center St\, Plainfield\, IN\, 46168\, United States
CATEGORIES:Board Meeting
END:VEVENT
END:VCALENDAR