BEGIN:VCALENDAR
VERSION:2.0
PRODID:-//Guilford Township &amp; Hummel Park - ECPv6.15.20//NONSGML v1.0//EN
CALSCALE:GREGORIAN
METHOD:PUBLISH
X-ORIGINAL-URL:https://guilfordtownship.com
X-WR-CALDESC:Events for Guilford Township &amp; Hummel Park
REFRESH-INTERVAL;VALUE=DURATION:PT1H
X-Robots-Tag:noindex
X-PUBLISHED-TTL:PT1H
BEGIN:VTIMEZONE
TZID:America/Indiana/Indianapolis
BEGIN:DAYLIGHT
TZOFFSETFROM:-0500
TZOFFSETTO:-0400
TZNAME:EDT
DTSTART:20240310T070000
END:DAYLIGHT
BEGIN:STANDARD
TZOFFSETFROM:-0400
TZOFFSETTO:-0500
TZNAME:EST
DTSTART:20241103T060000
END:STANDARD
BEGIN:DAYLIGHT
TZOFFSETFROM:-0500
TZOFFSETTO:-0400
TZNAME:EDT
DTSTART:20250309T070000
END:DAYLIGHT
BEGIN:STANDARD
TZOFFSETFROM:-0400
TZOFFSETTO:-0500
TZNAME:EST
DTSTART:20251102T060000
END:STANDARD
BEGIN:DAYLIGHT
TZOFFSETFROM:-0500
TZOFFSETTO:-0400
TZNAME:EDT
DTSTART:20260308T070000
END:DAYLIGHT
BEGIN:STANDARD
TZOFFSETFROM:-0400
TZOFFSETTO:-0500
TZNAME:EST
DTSTART:20261101T060000
END:STANDARD
END:VTIMEZONE
BEGIN:VEVENT
DTSTART;VALUE=DATE:20250704
DTEND;VALUE=DATE:20250705
DTSTAMP:20260424T052728
CREATED:20241211T185048Z
LAST-MODIFIED:20241211T185048Z
UID:10000261-1751587200-1751673599@guilfordtownship.com
SUMMARY:Offices Closed - Holiday - July 4th
DESCRIPTION:
URL:https://guilfordtownship.com/event-old/offices-closed-holiday-july-4th-2/
LOCATION:IN
CATEGORIES:Observed Holidays
END:VEVENT
BEGIN:VEVENT
DTSTART;TZID=America/Indiana/Indianapolis:20250704T170000
DTEND;TZID=America/Indiana/Indianapolis:20250704T223000
DTSTAMP:20260424T052728
CREATED:20250213T153734Z
LAST-MODIFIED:20250213T153734Z
UID:10000272-1751648400-1751668200@guilfordtownship.com
SUMMARY:Hummel Park 4th of July Festival
DESCRIPTION:The 38th Infantry Division Concert Band will play the evening concert for the July 4th festival in 2025.
URL:https://guilfordtownship.com/event-old/hummel-park-4th-of-july-festival-3/
LOCATION:Hummel Park\, 1500 S Center St\, Plainfield\, IN\, 46168
CATEGORIES:Hummel Park Events
END:VEVENT
END:VCALENDAR